BEGIN:VCALENDAR
VERSION:2.0
PRODID:-//Craft Beer Bottle Shop in Garner, NC | Wine, Mead &amp; 14 Taps | The Beerded Lady - ECPv6.15.20//NONSGML v1.0//EN
CALSCALE:GREGORIAN
METHOD:PUBLISH
X-WR-CALNAME:Craft Beer Bottle Shop in Garner, NC | Wine, Mead &amp; 14 Taps | The Beerded Lady
X-ORIGINAL-URL:https://thebeerdedlady.com
X-WR-CALDESC:Events for Craft Beer Bottle Shop in Garner, NC | Wine, Mead &amp; 14 Taps | The Beerded Lady
REFRESH-INTERVAL;VALUE=DURATION:PT1H
X-Robots-Tag:noindex
X-PUBLISHED-TTL:PT1H
BEGIN:VTIMEZONE
TZID:UTC
BEGIN:STANDARD
TZOFFSETFROM:+0000
TZOFFSETTO:+0000
TZNAME:UTC
DTSTART:20250101T000000
END:STANDARD
END:VTIMEZONE
BEGIN:VEVENT
DTSTART;TZID=UTC:20260421T181500
DTEND;TZID=UTC:20260421T210000
DTSTAMP:20260421T084855
CREATED:20260331T131106Z
LAST-MODIFIED:20260331T131106Z
UID:4248-1776795300-1776805200@thebeerdedlady.com
SUMMARY:Garner Run Club: Beerded Lady Run
DESCRIPTION:Local run group with options for 2\,3\,4 or 5 mile routes. All paces are welcome. \nThe Garner Run Club will be running from The Beerded Lady Bottle Shop on Thursdays\, running promptly at 6:15 PM. So come on out for a run or walk and stick around after for some fun social activities.
URL:https://thebeerdedlady.com/event/garner-run-club-beerded-lady-run-77/
LOCATION:The Beerded Lady\, 1350 Fifth Ave Suite 170\, Garner\, 27529\, United States
END:VEVENT
BEGIN:VEVENT
DTSTART;TZID=UTC:20260422T190000
DTEND;TZID=UTC:20260422T210000
DTSTAMP:20260421T084855
CREATED:20260331T132303Z
LAST-MODIFIED:20260331T132303Z
UID:4260-1776884400-1776891600@thebeerdedlady.com
SUMMARY:Hammered Trivia Wednesdays
DESCRIPTION:We’re excited to share that our trivia night was voted Best Trivia/Bar Event in Wake County in the 2024 INDY Week Best of the Triangle awards! \nJoin us every Wednesday from 7–9 PM as we team up with Hammered Trivia to deliver one of the most entertaining trivia nights around. Expect fast-paced questions\, great drinks\, and a lively crowd that keeps the energy high all night long. \nWe’re also proud to welcome our new sponsor\, Groovewagon\, serving up their infused beverages to keep the good vibes flowing. \nCome see what all the buzz is about—bring your crew and test your brainpower for a night of fun you won’t want to miss!
URL:https://thebeerdedlady.com/event/hammered-trivia-wednesdays-106/
LOCATION:The Beerded Lady\, 1350 Fifth Ave Suite 170\, Garner\, 27529\, United States
ORGANIZER;CN="Hammered Trivia":MAILTO:thor@hammeredtrivia.com
END:VEVENT
BEGIN:VEVENT
DTSTART;TZID=UTC:20260423T180000
DTEND;TZID=UTC:20260423T220000
DTSTAMP:20260421T084855
CREATED:20260331T134212Z
LAST-MODIFIED:20260331T134212Z
UID:4278-1776967200-1776981600@thebeerdedlady.com
SUMMARY:Game Night Thursdays
DESCRIPTION:Looking for a fun way to unwind after a long day? Join us every Thursday from 6 PM to close for our weekly Game Night at The Beerded Lady Bottle Shop! With three large tables that can seat up to 10 people\, three high-tops that can seat four\, and plenty of bar space\, there’s always room for everyone. Our board and card games collection is available for you to check out\, or you can bring your favorites from home.
URL:https://thebeerdedlady.com/event/game-night-thursdays-9/
LOCATION:The Beerded Lady\, 1350 Fifth Ave Suite 170\, Garner\, 27529\, United States
END:VEVENT
BEGIN:VEVENT
DTSTART;TZID=UTC:20260425T110000
DTEND;TZID=UTC:20260425T150000
DTSTAMP:20260421T084855
CREATED:20260108T141449Z
LAST-MODIFIED:20260108T160220Z
UID:3732-1777114800-1777129200@thebeerdedlady.com
SUMMARY:Dungeons & Flagons: Guilt of the Graveworld - Starfinder 2E
DESCRIPTION:We’re excited to add a new game to our Dungeon & Flagons series!\nHaydn will be GMing a Starfinder 2E campaign at The Beerded Lady every fourth Saturday. \n🪐 Adventure Path: Guilt of the Graveworld (prewritten)\n👥 Players: Up to 6 (with the possibility of adding a couple more if there’s enough interest)\n📖 Format: Serialized campaign — not a one-shot\n📈 Levels: 1–5\n⏳ Estimated Length: 10–12 sessions \nBecause this is a continuing story\, please keep the commitment in mind before signing up. If you’re looking for a longer-form sci-fi RPG experience with good drinks and good company\, this one’s for you. \nhttps://warhorn.net/events/dungeons-and-flagons-at-the-beerded-lady
URL:https://thebeerdedlady.com/event/dungeons-flagons-2026-pathfinder-2e-starfinder-2-ap-7/
LOCATION:The Beerded Lady\, 1350 Fifth Ave Suite 170\, Garner\, 27529\, United States
CATEGORIES:D&F
END:VEVENT
BEGIN:VEVENT
DTSTART;TZID=UTC:20260426T140000
DTEND;TZID=UTC:20260426T160000
DTSTAMP:20260421T084855
CREATED:20260331T153159Z
LAST-MODIFIED:20260331T153536Z
UID:4316-1777212000-1777219200@thebeerdedlady.com
SUMMARY:Beerded Lady Book Club: On Earth We're Briefly Gorgeous by Ocean Vuong
DESCRIPTION:The Beerded Lady Book Club meets monthly on the last Sunday of each month! \nYou can read the book however you prefer\, but if you want to purchase it new\, you can use the link in this event! Our friends at Blackbird Books and Coffee in Raleigh have set up a book club link for us that also provides an easy way for you to purchase the book while also keeping your dollars local! \nApril’s Book: On Earth We’re Briefly Gorgeous by Ocean Vuong
URL:https://thebeerdedlady.com/event/beerded-lady-book-club-on-earth-were-briefly-gorgeous-by-ocean-vuong/
LOCATION:The Beerded Lady\, 1350 Fifth Ave Suite 170\, Garner\, 27529\, United States
END:VEVENT
BEGIN:VEVENT
DTSTART;TZID=UTC:20260428T181500
DTEND;TZID=UTC:20260428T210000
DTSTAMP:20260421T084855
CREATED:20260331T130951Z
LAST-MODIFIED:20260331T131223Z
UID:4245-1777400100-1777410000@thebeerdedlady.com
SUMMARY:Garner Run Club: Beerded Lady Run
DESCRIPTION:Local run group with options for 2\,3\,4 or 5 mile routes. All paces are welcome. \nThe Garner Run Club will be running from The Beerded Lady Bottle Shop on Thursdays\, running promptly at 6:15 PM. So come on out for a run or walk and stick around after for some fun social activities.
URL:https://thebeerdedlady.com/event/garner-run-club-beerded-lady-run-76/
LOCATION:The Beerded Lady\, 1350 Fifth Ave Suite 170\, Garner\, 27529\, United States
END:VEVENT
BEGIN:VEVENT
DTSTART;TZID=UTC:20260429T190000
DTEND;TZID=UTC:20260429T210000
DTSTAMP:20260421T084855
CREATED:20260331T132353Z
LAST-MODIFIED:20260331T132353Z
UID:4263-1777489200-1777496400@thebeerdedlady.com
SUMMARY:Hammered Trivia Wednesdays
DESCRIPTION:We’re excited to share that our trivia night was voted Best Trivia/Bar Event in Wake County in the 2024 INDY Week Best of the Triangle awards! \nJoin us every Wednesday from 7–9 PM as we team up with Hammered Trivia to deliver one of the most entertaining trivia nights around. Expect fast-paced questions\, great drinks\, and a lively crowd that keeps the energy high all night long. \nWe’re also proud to welcome our new sponsor\, Groovewagon\, serving up their infused beverages to keep the good vibes flowing. \nCome see what all the buzz is about—bring your crew and test your brainpower for a night of fun you won’t want to miss!
URL:https://thebeerdedlady.com/event/hammered-trivia-wednesdays-107/
LOCATION:The Beerded Lady\, 1350 Fifth Ave Suite 170\, Garner\, 27529\, United States
ORGANIZER;CN="Hammered Trivia":MAILTO:thor@hammeredtrivia.com
END:VEVENT
BEGIN:VEVENT
DTSTART;TZID=UTC:20260430T180000
DTEND;TZID=UTC:20260430T220000
DTSTAMP:20260421T084855
CREATED:20260331T134033Z
LAST-MODIFIED:20260331T134033Z
UID:4275-1777572000-1777586400@thebeerdedlady.com
SUMMARY:Game Night Thursdays
DESCRIPTION:Looking for a fun way to unwind after a long day? Join us every Thursday from 6 PM to close for our weekly Game Night at The Beerded Lady Bottle Shop! With three large tables that can seat up to 10 people\, three high-tops that can seat four\, and plenty of bar space\, there’s always room for everyone. Our board and card games collection is available for you to check out\, or you can bring your favorites from home.
URL:https://thebeerdedlady.com/event/game-night-thursdays-8/
LOCATION:The Beerded Lady\, 1350 Fifth Ave Suite 170\, Garner\, 27529\, United States
END:VEVENT
BEGIN:VEVENT
DTSTART;TZID=UTC:20260509T110000
DTEND;TZID=UTC:20260509T150000
DTSTAMP:20260421T084855
CREATED:20260108T141533Z
LAST-MODIFIED:20260108T154958Z
UID:3735-1778324400-1778338800@thebeerdedlady.com
SUMMARY:Dungeons & Flagons: Daybreak - Pathfinder 2E
DESCRIPTION:DUNGEONS & FLAGONS 2026 – Daybreak\nEvery Second and Fifth Saturdays of the month @ 11AM! \nOur “home game” using Pathfinder 2E will be every Second and Fifth Saturday. \nGames start at 11:00AM. The Warhorn link has all the info and sign-up for both games. Free to play! \nOur games are Inclusive\, Safe\, and Supportive. Beginner’s welcomed! \nhttps://warhorn.net/events/dungeons-and-flagons-at-the-beerded-lady
URL:https://thebeerdedlady.com/event/dungeons-flagons-2026-pathfinder-2e-starfinder-2-ap-8/
LOCATION:The Beerded Lady\, 1350 Fifth Ave Suite 170\, Garner\, 27529\, United States
CATEGORIES:D&F
END:VEVENT
BEGIN:VEVENT
DTSTART;TZID=UTC:20260523T110000
DTEND;TZID=UTC:20260523T150000
DTSTAMP:20260421T084855
CREATED:20260108T141620Z
LAST-MODIFIED:20260108T160302Z
UID:3738-1779534000-1779548400@thebeerdedlady.com
SUMMARY:Dungeons & Flagons: Guilt of the Graveworld - Starfinder 2E
DESCRIPTION:We’re excited to add a new game to our Dungeon & Flagons series!\nHaydn will be GMing a Starfinder 2E campaign at The Beerded Lady every fourth Saturday. \n🪐 Adventure Path: Guilt of the Graveworld (prewritten)\n👥 Players: Up to 6 (with the possibility of adding a couple more if there’s enough interest)\n📖 Format: Serialized campaign — not a one-shot\n📈 Levels: 1–5\n⏳ Estimated Length: 10–12 sessions \nBecause this is a continuing story\, please keep the commitment in mind before signing up. If you’re looking for a longer-form sci-fi RPG experience with good drinks and good company\, this one’s for you. \nhttps://warhorn.net/events/dungeons-and-flagons-at-the-beerded-lady
URL:https://thebeerdedlady.com/event/dungeons-flagons-2026-pathfinder-2e-starfinder-2-ap-9/
LOCATION:The Beerded Lady\, 1350 Fifth Ave Suite 170\, Garner\, 27529\, United States
CATEGORIES:D&F
END:VEVENT
BEGIN:VEVENT
DTSTART;TZID=UTC:20260613T110000
DTEND;TZID=UTC:20260613T150000
DTSTAMP:20260421T084855
CREATED:20260108T141706Z
LAST-MODIFIED:20260108T155031Z
UID:3741-1781348400-1781362800@thebeerdedlady.com
SUMMARY:Dungeons & Flagons: Daybreak - Pathfinder 2E
DESCRIPTION:DUNGEONS & FLAGONS 2026 – Daybreak\nEvery Second and Fifth Saturdays of the month @ 11AM! \nOur “home game” using Pathfinder 2E will be every Second and Fifth Saturday. \nGames start at 11:00AM. The Warhorn link has all the info and sign-up for both games. Free to play! \nOur games are Inclusive\, Safe\, and Supportive. Beginner’s welcomed! \nhttps://warhorn.net/events/dungeons-and-flagons-at-the-beerded-lady
URL:https://thebeerdedlady.com/event/dungeons-flagons-2026-pathfinder-2e-starfinder-2-ap-10/
LOCATION:The Beerded Lady\, 1350 Fifth Ave Suite 170\, Garner\, 27529\, United States
CATEGORIES:D&F
END:VEVENT
BEGIN:VEVENT
DTSTART;TZID=UTC:20260627T110000
DTEND;TZID=UTC:20260627T150000
DTSTAMP:20260421T084855
CREATED:20260108T141752Z
LAST-MODIFIED:20260108T160344Z
UID:3744-1782558000-1782572400@thebeerdedlady.com
SUMMARY:Dungeons & Flagons: Guilt of the Graveworld - Starfinder 2E
DESCRIPTION:We’re excited to add a new game to our Dungeon & Flagons series!\nHaydn will be GMing a Starfinder 2E campaign at The Beerded Lady every fourth Saturday. \n🪐 Adventure Path: Guilt of the Graveworld (prewritten)\n👥 Players: Up to 6 (with the possibility of adding a couple more if there’s enough interest)\n📖 Format: Serialized campaign — not a one-shot\n📈 Levels: 1–5\n⏳ Estimated Length: 10–12 sessions \nBecause this is a continuing story\, please keep the commitment in mind before signing up. If you’re looking for a longer-form sci-fi RPG experience with good drinks and good company\, this one’s for you. \nhttps://warhorn.net/events/dungeons-and-flagons-at-the-beerded-lady
URL:https://thebeerdedlady.com/event/dungeons-flagons-2026-pathfinder-2e-starfinder-2-ap-11/
LOCATION:The Beerded Lady\, 1350 Fifth Ave Suite 170\, Garner\, 27529\, United States
CATEGORIES:D&F
END:VEVENT
BEGIN:VEVENT
DTSTART;TZID=UTC:20260711T110000
DTEND;TZID=UTC:20260711T150000
DTSTAMP:20260421T084855
CREATED:20260108T141926Z
LAST-MODIFIED:20260108T155221Z
UID:3747-1783767600-1783782000@thebeerdedlady.com
SUMMARY:Dungeons & Flagons: Daybreak - Pathfinder 2E
DESCRIPTION:DUNGEONS & FLAGONS 2026 – Daybreak\nEvery Second and Fifth Saturdays of the month @ 11AM! \nOur “home game” using Pathfinder 2E will be every Second and Fifth Saturday. \nGames start at 11:00AM. The Warhorn link has all the info and sign-up for both games. Free to play! \nOur games are Inclusive\, Safe\, and Supportive. Beginner’s welcomed! \nhttps://warhorn.net/events/dungeons-and-flagons-at-the-beerded-lady
URL:https://thebeerdedlady.com/event/dungeons-flagons-2026-pathfinder-2e-starfinder-2-ap-12/
LOCATION:The Beerded Lady\, 1350 Fifth Ave Suite 170\, Garner\, 27529\, United States
CATEGORIES:D&F
END:VEVENT
BEGIN:VEVENT
DTSTART;TZID=UTC:20260725T110000
DTEND;TZID=UTC:20260725T150000
DTSTAMP:20260421T084855
CREATED:20260108T142012Z
LAST-MODIFIED:20260108T160416Z
UID:3750-1784977200-1784991600@thebeerdedlady.com
SUMMARY:Dungeons & Flagons: Guilt of the Graveworld - Starfinder 2E
DESCRIPTION:We’re excited to add a new game to our Dungeon & Flagons series!\nHaydn will be GMing a Starfinder 2E campaign at The Beerded Lady every fourth Saturday. \n🪐 Adventure Path: Guilt of the Graveworld (prewritten)\n👥 Players: Up to 6 (with the possibility of adding a couple more if there’s enough interest)\n📖 Format: Serialized campaign — not a one-shot\n📈 Levels: 1–5\n⏳ Estimated Length: 10–12 sessions \nBecause this is a continuing story\, please keep the commitment in mind before signing up. If you’re looking for a longer-form sci-fi RPG experience with good drinks and good company\, this one’s for you. \nhttps://warhorn.net/events/dungeons-and-flagons-at-the-beerded-lady
URL:https://thebeerdedlady.com/event/dungeons-flagons-2026-pathfinder-2e-starfinder-2-ap-13/
LOCATION:The Beerded Lady\, 1350 Fifth Ave Suite 170\, Garner\, 27529\, United States
CATEGORIES:D&F
END:VEVENT
BEGIN:VEVENT
DTSTART;TZID=UTC:20260808T110000
DTEND;TZID=UTC:20260808T150000
DTSTAMP:20260421T084855
CREATED:20260108T142104Z
LAST-MODIFIED:20260108T155255Z
UID:3753-1786186800-1786201200@thebeerdedlady.com
SUMMARY:Dungeons & Flagons: Daybreak - Pathfinder 2E
DESCRIPTION:DUNGEONS & FLAGONS 2026 – Daybreak\nEvery Second and Fifth Saturdays of the month @ 11AM! \nOur “home game” using Pathfinder 2E will be every Second and Fifth Saturday. \nGames start at 11:00AM. The Warhorn link has all the info and sign-up for both games. Free to play! \nOur games are Inclusive\, Safe\, and Supportive. Beginner’s welcomed! \nhttps://warhorn.net/events/dungeons-and-flagons-at-the-beerded-lady
URL:https://thebeerdedlady.com/event/dungeons-flagons-2026-pathfinder-2e-starfinder-2-ap-14/
LOCATION:The Beerded Lady\, 1350 Fifth Ave Suite 170\, Garner\, 27529\, United States
CATEGORIES:D&F
END:VEVENT
BEGIN:VEVENT
DTSTART;TZID=UTC:20260822T110000
DTEND;TZID=UTC:20260822T150000
DTSTAMP:20260421T084855
CREATED:20260108T142156Z
LAST-MODIFIED:20260108T160518Z
UID:3756-1787396400-1787410800@thebeerdedlady.com
SUMMARY:Dungeons & Flagons: Guilt of the Graveworld - Starfinder 2E
DESCRIPTION:We’re excited to add a new game to our Dungeon & Flagons series!\nHaydn will be GMing a Starfinder 2E campaign at The Beerded Lady every fourth Saturday. \n🪐 Adventure Path: Guilt of the Graveworld (prewritten)\n👥 Players: Up to 6 (with the possibility of adding a couple more if there’s enough interest)\n📖 Format: Serialized campaign — not a one-shot\n📈 Levels: 1–5\n⏳ Estimated Length: 10–12 sessions \nBecause this is a continuing story\, please keep the commitment in mind before signing up. If you’re looking for a longer-form sci-fi RPG experience with good drinks and good company\, this one’s for you. \nhttps://warhorn.net/events/dungeons-and-flagons-at-the-beerded-lady
URL:https://thebeerdedlady.com/event/dungeons-flagons-2026-pathfinder-2e-starfinder-2-ap-15/
LOCATION:The Beerded Lady\, 1350 Fifth Ave Suite 170\, Garner\, 27529\, United States
CATEGORIES:D&F
END:VEVENT
BEGIN:VEVENT
DTSTART;TZID=UTC:20260830T110000
DTEND;TZID=UTC:20260830T150000
DTSTAMP:20260421T084855
CREATED:20260108T155348Z
LAST-MODIFIED:20260108T155348Z
UID:3782-1788087600-1788102000@thebeerdedlady.com
SUMMARY:Dungeons & Flagons: Daybreak - Pathfinder 2E
DESCRIPTION:DUNGEONS & FLAGONS 2026 – Daybreak\nEvery Second and Fifth Saturdays of the month @ 11AM! \nOur “home game” using Pathfinder 2E will be every Second and Fifth Saturday. \nGames start at 11:00AM. The Warhorn link has all the info and sign-up for both games. Free to play! \nOur games are Inclusive\, Safe\, and Supportive. Beginner’s welcomed! \nhttps://warhorn.net/events/dungeons-and-flagons-at-the-beerded-lady
URL:https://thebeerdedlady.com/event/dungeons-flagons-daybreak-pathfinder-2e/
LOCATION:The Beerded Lady\, 1350 Fifth Ave Suite 170\, Garner\, 27529\, United States
CATEGORIES:D&F
END:VEVENT
BEGIN:VEVENT
DTSTART;TZID=UTC:20260912T110000
DTEND;TZID=UTC:20260912T150000
DTSTAMP:20260421T084855
CREATED:20260108T142250Z
LAST-MODIFIED:20260108T155727Z
UID:3759-1789210800-1789225200@thebeerdedlady.com
SUMMARY:Dungeons & Flagons: Daybreak - Pathfinder 2E
DESCRIPTION:DUNGEONS & FLAGONS 2026 – Daybreak\nEvery Second and Fifth Saturdays of the month @ 11AM! \nOur “home game” using Pathfinder 2E will be every Second and Fifth Saturday. \nGames start at 11:00AM. The Warhorn link has all the info and sign-up for both games. Free to play! \nOur games are Inclusive\, Safe\, and Supportive. Beginner’s welcomed! \nhttps://warhorn.net/events/dungeons-and-flagons-at-the-beerded-lady
URL:https://thebeerdedlady.com/event/dungeons-flagons-2026-pathfinder-2e-starfinder-2-ap-16/
LOCATION:The Beerded Lady\, 1350 Fifth Ave Suite 170\, Garner\, 27529\, United States
CATEGORIES:D&F
END:VEVENT
BEGIN:VEVENT
DTSTART;TZID=UTC:20260926T110000
DTEND;TZID=UTC:20260926T150000
DTSTAMP:20260421T084855
CREATED:20260108T142331Z
LAST-MODIFIED:20260108T160607Z
UID:3762-1790420400-1790434800@thebeerdedlady.com
SUMMARY:Dungeons & Flagons: Guilt of the Graveworld - Starfinder 2E
DESCRIPTION:We’re excited to add a new game to our Dungeon & Flagons series!\nHaydn will be GMing a Starfinder 2E campaign at The Beerded Lady every fourth Saturday. \n🪐 Adventure Path: Guilt of the Graveworld (prewritten)\n👥 Players: Up to 6 (with the possibility of adding a couple more if there’s enough interest)\n📖 Format: Serialized campaign — not a one-shot\n📈 Levels: 1–5\n⏳ Estimated Length: 10–12 sessions \nBecause this is a continuing story\, please keep the commitment in mind before signing up. If you’re looking for a longer-form sci-fi RPG experience with good drinks and good company\, this one’s for you. \nhttps://warhorn.net/events/dungeons-and-flagons-at-the-beerded-lady
URL:https://thebeerdedlady.com/event/dungeons-flagons-2026-pathfinder-2e-starfinder-2-ap-17/
LOCATION:The Beerded Lady\, 1350 Fifth Ave Suite 170\, Garner\, 27529\, United States
CATEGORIES:D&F
END:VEVENT
BEGIN:VEVENT
DTSTART;TZID=UTC:20261010T110000
DTEND;TZID=UTC:20261010T150000
DTSTAMP:20260421T084855
CREATED:20260108T142412Z
LAST-MODIFIED:20260108T155831Z
UID:3765-1791630000-1791644400@thebeerdedlady.com
SUMMARY:Dungeons & Flagons: Daybreak - Pathfinder 2E
DESCRIPTION:DUNGEONS & FLAGONS 2026 – Daybreak\nEvery Second and Fifth Saturdays of the month @ 11AM! \nOur “home game” using Pathfinder 2E will be every Second and Fifth Saturday. \nGames start at 11:00AM. The Warhorn link has all the info and sign-up for both games. Free to play! \nOur games are Inclusive\, Safe\, and Supportive. Beginner’s welcomed! \nhttps://warhorn.net/events/dungeons-and-flagons-at-the-beerded-lady
URL:https://thebeerdedlady.com/event/dungeons-flagons-2026-pathfinder-2e-starfinder-2-ap-18/
LOCATION:The Beerded Lady\, 1350 Fifth Ave Suite 170\, Garner\, 27529\, United States
CATEGORIES:D&F
END:VEVENT
BEGIN:VEVENT
DTSTART;TZID=UTC:20261024T110000
DTEND;TZID=UTC:20261024T150000
DTSTAMP:20260421T084855
CREATED:20260108T142450Z
LAST-MODIFIED:20260108T160644Z
UID:3768-1792839600-1792854000@thebeerdedlady.com
SUMMARY:Dungeons & Flagons: Guilt of the Graveworld - Starfinder 2E
DESCRIPTION:We’re excited to add a new game to our Dungeon & Flagons series!\nHaydn will be GMing a Starfinder 2E campaign at The Beerded Lady every fourth Saturday. \n🪐 Adventure Path: Guilt of the Graveworld (prewritten)\n👥 Players: Up to 6 (with the possibility of adding a couple more if there’s enough interest)\n📖 Format: Serialized campaign — not a one-shot\n📈 Levels: 1–5\n⏳ Estimated Length: 10–12 sessions \nBecause this is a continuing story\, please keep the commitment in mind before signing up. If you’re looking for a longer-form sci-fi RPG experience with good drinks and good company\, this one’s for you. \nhttps://warhorn.net/events/dungeons-and-flagons-at-the-beerded-lady
URL:https://thebeerdedlady.com/event/dungeons-flagons-2026-pathfinder-2e-starfinder-2-ap-19/
LOCATION:The Beerded Lady\, 1350 Fifth Ave Suite 170\, Garner\, 27529\, United States
CATEGORIES:D&F
END:VEVENT
BEGIN:VEVENT
DTSTART;TZID=UTC:20261031T110000
DTEND;TZID=UTC:20261031T150000
DTSTAMP:20260421T084855
CREATED:20260108T142528Z
LAST-MODIFIED:20260108T155930Z
UID:3771-1793444400-1793458800@thebeerdedlady.com
SUMMARY:Dungeons & Flagons: Daybreak - Pathfinder 2E
DESCRIPTION:DUNGEONS & FLAGONS 2026 – Daybreak\nEvery Second and Fifth Saturdays of the month @ 11AM! \nOur “home game” using Pathfinder 2E will be every Second and Fifth Saturday. \nGames start at 11:00AM. The Warhorn link has all the info and sign-up for both games. Free to play! \nOur games are Inclusive\, Safe\, and Supportive. Beginner’s welcomed! \nhttps://warhorn.net/events/dungeons-and-flagons-at-the-beerded-lady
URL:https://thebeerdedlady.com/event/dungeons-flagons-2026-pathfinder-2e-starfinder-2-ap-20/
LOCATION:The Beerded Lady\, 1350 Fifth Ave Suite 170\, Garner\, 27529\, United States
CATEGORIES:D&F
END:VEVENT
END:VCALENDAR